Package: updateObject Version: 1.15.0 Command: /Library/Frameworks/R.framework/Resources/bin/R CMD INSTALL updateObject StartedAt: 2025-11-18 15:17:57 -0500 (Tue, 18 Nov 2025) EndedAt: 2025-11-18 15:18:01 -0500 (Tue, 18 Nov 2025) EllapsedTime: 3.5 seconds RetCode: 0 Status: OK