Package: updateObject Version: 1.15.0 Command: /Library/Frameworks/R.framework/Resources/bin/R CMD INSTALL updateObject StartedAt: 2025-11-19 15:21:01 -0500 (Wed, 19 Nov 2025) EndedAt: 2025-11-19 15:21:09 -0500 (Wed, 19 Nov 2025) EllapsedTime: 7.9 seconds RetCode: 0 Status: OK