Package: updateObject Version: 1.15.0 Command: /home/biocbuild/bbs-3.23-bioc/R/bin/R CMD build --keep-empty-dirs --no-resave-data updateObject StartedAt: 2025-11-19 20:40:57 -0500 (Wed, 19 Nov 2025) EndedAt: 2025-11-19 20:41:17 -0500 (Wed, 19 Nov 2025) EllapsedTime: 20.0 seconds RetCode: 0 Status: OK PackageFile: updateObject_1.15.0.tar.gz PackageFileSize: 1.289 MiB