Package: updateObject Version: 1.15.0 Command: /home/biocbuild/bbs-3.23-bioc/R/bin/R CMD INSTALL updateObject StartedAt: 2025-11-18 16:05:52 -0500 (Tue, 18 Nov 2025) EndedAt: 2025-11-18 16:05:58 -0500 (Tue, 18 Nov 2025) EllapsedTime: 6.4 seconds RetCode: 0 Status: OK