Package: variancePartition Version: 1.41.0 Command: /Library/Frameworks/R.framework/Resources/bin/R CMD build --keep-empty-dirs --no-resave-data variancePartition StartedAt: 2025-11-19 18:03:24 -0500 (Wed, 19 Nov 2025) EndedAt: 2025-11-19 18:08:10 -0500 (Wed, 19 Nov 2025) EllapsedTime: 286.2 seconds RetCode: 0 Status: OK PackageFile: variancePartition_1.41.0.tar.gz PackageFileSize: 4.985 MiB