Package: variancePartition Version: 1.41.0 Command: /Library/Frameworks/R.framework/Resources/bin/R CMD INSTALL variancePartition StartedAt: 2025-11-19 15:08:21 -0500 (Wed, 19 Nov 2025) EndedAt: 2025-11-19 15:08:30 -0500 (Wed, 19 Nov 2025) EllapsedTime: 8.4 seconds RetCode: 0 Status: OK