Package: variancePartition Version: 1.41.0 Command: rm -rf variancePartition.buildbin-libdir && mkdir variancePartition.buildbin-libdir && /Users/biocbuild/BBS/utils/build-universal.sh variancePartition_1.41.0.tar.gz /Library/Frameworks/R.framework/Resources/bin/R variancePartition.buildbin-libdir StartedAt: 2025-11-20 02:02:23 -0500 (Thu, 20 Nov 2025) EndedAt: 2025-11-20 02:02:52 -0500 (Thu, 20 Nov 2025) EllapsedTime: 28.9 seconds RetCode: 0 Status: OK PackageFile: variancePartition_1.41.0.tgz PackageFileSize: 5.112 MiB