Package: variancePartition Version: 1.41.0 Command: /Library/Frameworks/R.framework/Resources/bin/R CMD build --keep-empty-dirs --no-resave-data variancePartition StartedAt: 2025-11-19 19:07:24 -0500 (Wed, 19 Nov 2025) EndedAt: 2025-11-19 19:18:40 -0500 (Wed, 19 Nov 2025) EllapsedTime: 675.6 seconds RetCode: 0 Status: OK PackageFile: variancePartition_1.41.0.tar.gz PackageFileSize: 4.983 MiB