Package: variancePartition Version: 1.41.0 Command: /Library/Frameworks/R.framework/Resources/bin/R CMD INSTALL variancePartition StartedAt: 2025-11-19 15:20:08 -0500 (Wed, 19 Nov 2025) EndedAt: 2025-11-19 15:20:39 -0500 (Wed, 19 Nov 2025) EllapsedTime: 31.1 seconds RetCode: 0 Status: OK