Package: variancePartition Version: 1.41.0 Command: /home/biocbuild/bbs-3.23-bioc/R/bin/R CMD build --keep-empty-dirs --no-resave-data variancePartition StartedAt: 2025-11-19 20:41:45 -0500 (Wed, 19 Nov 2025) EndedAt: 2025-11-19 20:52:47 -0500 (Wed, 19 Nov 2025) EllapsedTime: 662.0 seconds RetCode: 0 Status: OK PackageFile: variancePartition_1.41.0.tar.gz PackageFileSize: 4.721 MiB