Package: variancePartition Version: 1.41.0 Command: /home/biocbuild/bbs-3.23-bioc/R/bin/R CMD INSTALL variancePartition StartedAt: 2025-11-19 15:15:27 -0500 (Wed, 19 Nov 2025) EndedAt: 2025-11-19 15:15:48 -0500 (Wed, 19 Nov 2025) EllapsedTime: 20.1 seconds RetCode: 0 Status: OK