Package: webbioc Version: 1.83.0 Command: /Library/Frameworks/R.framework/Resources/bin/R CMD build --keep-empty-dirs --no-resave-data webbioc StartedAt: 2025-11-19 18:06:27 -0500 (Wed, 19 Nov 2025) EndedAt: 2025-11-19 18:06:41 -0500 (Wed, 19 Nov 2025) EllapsedTime: 14.2 seconds RetCode: 0 Status: OK PackageFile: webbioc_1.83.0.tar.gz PackageFileSize: 311.6 KiB