Package: webbioc Version: 1.83.0 Command: /Library/Frameworks/R.framework/Resources/bin/R CMD INSTALL webbioc StartedAt: 2025-11-19 15:24:54 -0500 (Wed, 19 Nov 2025) EndedAt: 2025-11-19 15:25:03 -0500 (Wed, 19 Nov 2025) EllapsedTime: 9.0 seconds RetCode: 0 Status: OK