Package: webbioc Version: 1.83.0 Command: rm -rf webbioc.buildbin-libdir && mkdir webbioc.buildbin-libdir && /Users/biocbuild/BBS/utils/build-universal.sh webbioc_1.83.0.tar.gz /Library/Frameworks/R.framework/Resources/bin/R webbioc.buildbin-libdir StartedAt: 2025-11-20 02:02:52 -0500 (Thu, 20 Nov 2025) EndedAt: 2025-11-20 02:03:29 -0500 (Thu, 20 Nov 2025) EllapsedTime: 37.0 seconds RetCode: 0 Status: OK PackageFile: webbioc_1.83.0.tgz PackageFileSize: 310.5 KiB