Package: webbioc Version: 1.83.0 Command: /home/biocbuild/bbs-3.23-bioc/R/bin/R CMD INSTALL webbioc StartedAt: 2025-11-19 15:47:52 -0500 (Wed, 19 Nov 2025) EndedAt: 2025-11-19 15:48:13 -0500 (Wed, 19 Nov 2025) EllapsedTime: 20.8 seconds RetCode: 0 Status: OK