Package: widgetTools Version: 1.89.0 Command: /Library/Frameworks/R.framework/Resources/bin/R CMD build --keep-empty-dirs --no-resave-data widgetTools StartedAt: 2025-11-18 18:16:29 -0500 (Tue, 18 Nov 2025) EndedAt: 2025-11-18 18:16:36 -0500 (Tue, 18 Nov 2025) EllapsedTime: 7.1 seconds RetCode: 0 Status: OK PackageFile: widgetTools_1.89.0.tar.gz PackageFileSize: 228.1 KiB