Package: widgetTools Version: 1.89.0 Command: /Library/Frameworks/R.framework/Resources/bin/R CMD INSTALL widgetTools StartedAt: 2025-11-18 15:13:27 -0500 (Tue, 18 Nov 2025) EndedAt: 2025-11-18 15:13:35 -0500 (Tue, 18 Nov 2025) EllapsedTime: 8.1 seconds RetCode: 0 Status: OK