Package: widgetTools Version: 1.89.0 Command: rm -rf widgetTools.buildbin-libdir && mkdir widgetTools.buildbin-libdir && /Users/biocbuild/BBS/utils/build-universal.sh widgetTools_1.89.0.tar.gz /Library/Frameworks/R.framework/Resources/bin/R widgetTools.buildbin-libdir StartedAt: 2025-11-20 02:02:56 -0500 (Thu, 20 Nov 2025) EndedAt: 2025-11-20 02:03:05 -0500 (Thu, 20 Nov 2025) EllapsedTime: 9.2 seconds RetCode: 0 Status: OK PackageFile: widgetTools_1.89.0.tgz PackageFileSize: 449.7 KiB