Package: widgetTools Version: 1.89.0 Command: /Library/Frameworks/R.framework/Resources/bin/R CMD build --keep-empty-dirs --no-resave-data widgetTools StartedAt: 2025-11-19 19:10:36 -0500 (Wed, 19 Nov 2025) EndedAt: 2025-11-19 19:10:50 -0500 (Wed, 19 Nov 2025) EllapsedTime: 13.7 seconds RetCode: 0 Status: OK PackageFile: widgetTools_1.89.0.tar.gz PackageFileSize: 226.9 KiB