Package: widgetTools Version: 1.89.0 Command: /Library/Frameworks/R.framework/Resources/bin/R CMD INSTALL widgetTools StartedAt: 2025-11-19 15:13:28 -0500 (Wed, 19 Nov 2025) EndedAt: 2025-11-19 15:14:00 -0500 (Wed, 19 Nov 2025) EllapsedTime: 31.8 seconds RetCode: 0 Status: OK