Package: wiggleplotr Version: 1.35.0 Command: /Library/Frameworks/R.framework/Resources/bin/R CMD INSTALL wiggleplotr StartedAt: 2025-11-19 15:17:55 -0500 (Wed, 19 Nov 2025) EndedAt: 2025-11-19 15:17:57 -0500 (Wed, 19 Nov 2025) EllapsedTime: 2.1 seconds RetCode: 0 Status: OK