Package: wiggleplotr Version: 1.35.0 Command: /Library/Frameworks/R.framework/Resources/bin/R CMD INSTALL wiggleplotr StartedAt: 2025-11-19 15:35:25 -0500 (Wed, 19 Nov 2025) EndedAt: 2025-11-19 15:35:33 -0500 (Wed, 19 Nov 2025) EllapsedTime: 8.9 seconds RetCode: 0 Status: OK