Package: wiggleplotr Version: 1.35.0 Command: /home/biocbuild/bbs-3.23-bioc/R/bin/R CMD INSTALL wiggleplotr StartedAt: 2025-11-19 15:30:43 -0500 (Wed, 19 Nov 2025) EndedAt: 2025-11-19 15:30:48 -0500 (Wed, 19 Nov 2025) EllapsedTime: 5.0 seconds RetCode: 0 Status: OK