Package: xcms Version: 4.9.0 Command: /Library/Frameworks/R.framework/Resources/bin/R CMD INSTALL xcms StartedAt: 2025-11-18 15:34:01 -0500 (Tue, 18 Nov 2025) EndedAt: 2025-11-18 15:34:38 -0500 (Tue, 18 Nov 2025) EllapsedTime: 36.9 seconds RetCode: 0 Status: OK