Package: xcms Version: 4.9.0 Command: /Library/Frameworks/R.framework/Resources/bin/R CMD INSTALL xcms StartedAt: 2025-11-19 15:44:53 -0500 (Wed, 19 Nov 2025) EndedAt: 2025-11-19 15:47:09 -0500 (Wed, 19 Nov 2025) EllapsedTime: 135.9 seconds RetCode: 0 Status: OK