Package: xcms Version: 4.9.0 Command: /home/biocbuild/bbs-3.23-bioc/R/bin/R CMD build --keep-empty-dirs --no-resave-data xcms StartedAt: 2025-11-18 21:36:48 -0500 (Tue, 18 Nov 2025) EndedAt: 2025-11-18 21:41:18 -0500 (Tue, 18 Nov 2025) EllapsedTime: 270.6 seconds RetCode: 0 Status: OK PackageFile: xcms_4.9.0.tar.gz PackageFileSize: 9.136 MiB