Package: xcms Version: 4.9.0 Command: /home/biocbuild/bbs-3.23-bioc/R/bin/R CMD INSTALL xcms StartedAt: 2025-11-18 16:37:17 -0500 (Tue, 18 Nov 2025) EndedAt: 2025-11-18 16:38:55 -0500 (Tue, 18 Nov 2025) EllapsedTime: 97.7 seconds RetCode: 0 Status: OK