Package: scviR Version: 1.9.11 Maintainer: Vincent Carey MaintainerEmail: stvjc@channing.harvard.edu GPU_reliance: optional Package: orthos Version: 1.7.2 Maintainer: Panagiotis Papasaikas MaintainerEmail: panagiotis.papasaikas@fmi.ch GPU_reliance: optional Package: RbowtieCuda Version: 1.1.1 Maintainer: Franck RICHARD MaintainerEmail: franck.richard@winstars.net UnsupportedPlatforms: win, mac GPU_reliance: required