Package: DelayedMatrixStats Version: 1.31.0 Command: /home/biocbuild/bbs-3.22-bioc/R/bin/R CMD check --test-dir=longtests --no-stop-on-test-error --no-codoc --no-examples --no-manual --ignore-vignettes --check-subdirs=no DelayedMatrixStats_1.31.0.tar.gz StartedAt: 2025-07-12 16:06:50 -0400 (Sat, 12 Jul 2025) EndedAt: 2025-07-12 16:08:29 -0400 (Sat, 12 Jul 2025) EllapsedTime: 99.0 seconds RetCode: 0 Status: OK CheckDir: DelayedMatrixStats.Rcheck Warnings: 0