See here for how to subscribe to these builds.
This page was generated on 2025-07-12 23:55 -0400 (Sat, 12 Jul 2025).
| |
See this page for all the Bioconductor builds and their schedule. |
Hostname | OS | Arch (*) | R version | Installed pkgs |
---|---|---|---|---|
nebbiolo2 | Linux (Ubuntu 24.04.2 LTS) | x86_64 | 4.5.1 (2025-06-13) -- "Great Square Root" | 4783 |
palomino8 | Windows Server 2022 Datacenter | x64 | 4.5.1 (2025-06-13 ucrt) -- "Great Square Root" | 4520 |
lconway | macOS 12.7.1 Monterey | x86_64 | 4.5.1 (2025-06-13) -- "Great Square Root" | 4564 |
Click on any hostname to see more info about the system (e.g. compilers) (*) as reported by 'uname -p', except on Windows and Mac OS X |
QUICK STATS | OS / Arch | CHECK | |||||||
nebbiolo2 | Linux (Ubuntu 24.04.2 LTS) / x86_64 |
| |||||||
palomino8 | Windows Server 2022 Datacenter / x64 |
| |||||||
lconway | macOS 12.7.1 Monterey / x86_64 |
| |||||||
Package 1/29 | Hostname | OS / Arch | CHECK | ||||||
APAlyzer 1.23.0 (landing page) Ruijia Wang
| nebbiolo2 | Linux (Ubuntu 24.04.2 LTS) / x86_64 | ERROR | ||||||
palomino8 | Windows Server 2022 Datacenter / x64 | ERROR | |||||||
lconway | macOS 12.7.1 Monterey / x86_64 | ERROR | |||||||
Package 2/29 | Hostname | OS / Arch | CHECK | ||||||
autonomics 1.17.0 (landing page) Aditya Bhagwat
| nebbiolo2 | Linux (Ubuntu 24.04.2 LTS) / x86_64 | ERROR | ||||||
palomino8 | Windows Server 2022 Datacenter / x64 | ERROR | |||||||
lconway | macOS 12.7.1 Monterey / x86_64 | ERROR | |||||||
Package 3/29 | Hostname | OS / Arch | CHECK | ||||||
beachmat 2.25.1 (landing page) Aaron Lun
| nebbiolo2 | Linux (Ubuntu 24.04.2 LTS) / x86_64 | WARNINGS | ||||||
palomino8 | Windows Server 2022 Datacenter / x64 | WARNINGS | |||||||
lconway | macOS 12.7.1 Monterey / x86_64 | WARNINGS | |||||||
Package 4/29 | Hostname | OS / Arch | CHECK | ||||||
biodb 1.17.1 (landing page) Pierrick Roger
| nebbiolo2 | Linux (Ubuntu 24.04.2 LTS) / x86_64 | WARNINGS | ||||||
palomino8 | Windows Server 2022 Datacenter / x64 | WARNINGS | |||||||
lconway | macOS 12.7.1 Monterey / x86_64 | WARNINGS | |||||||
Package 5/29 | Hostname | OS / Arch | CHECK | ||||||
biodbChebi 1.15.1 (landing page) Pierrick Roger
| nebbiolo2 | Linux (Ubuntu 24.04.2 LTS) / x86_64 | OK | ||||||
palomino8 | Windows Server 2022 Datacenter / x64 | OK | |||||||
lconway | macOS 12.7.1 Monterey / x86_64 | OK | |||||||
Package 6/29 | Hostname | OS / Arch | CHECK | ||||||
biodbHmdb 1.15.0 (landing page) Pierrick Roger
| nebbiolo2 | Linux (Ubuntu 24.04.2 LTS) / x86_64 | ERROR | ||||||
palomino8 | Windows Server 2022 Datacenter / x64 | ERROR | |||||||
lconway | macOS 12.7.1 Monterey / x86_64 | ERROR | |||||||
Package 7/29 | Hostname | OS / Arch | CHECK | ||||||
biodbNcbi 1.13.0 (landing page) Pierrick Roger
| nebbiolo2 | Linux (Ubuntu 24.04.2 LTS) / x86_64 | ERROR | ||||||
palomino8 | Windows Server 2022 Datacenter / x64 | ERROR | |||||||
lconway | macOS 12.7.1 Monterey / x86_64 | ERROR | |||||||
Package 8/29 | Hostname | OS / Arch | CHECK | ||||||
biodbNci 1.13.0 (landing page) Pierrick Roger
| nebbiolo2 | Linux (Ubuntu 24.04.2 LTS) / x86_64 | ERROR | ||||||
palomino8 | Windows Server 2022 Datacenter / x64 | ERROR | |||||||
lconway | macOS 12.7.1 Monterey / x86_64 | ERROR | |||||||
Package 9/29 | Hostname | OS / Arch | CHECK | ||||||
biodbUniprot 1.15.0 (landing page) Pierrick Roger
| nebbiolo2 | Linux (Ubuntu 24.04.2 LTS) / x86_64 | ERROR | ||||||
palomino8 | Windows Server 2022 Datacenter / x64 | ERROR | |||||||
lconway | macOS 12.7.1 Monterey / x86_64 | ERROR | |||||||
Package 10/29 | Hostname | OS / Arch | CHECK | ||||||
cBioPortalData 2.21.4 (landing page) Marcel Ramos
| nebbiolo2 | Linux (Ubuntu 24.04.2 LTS) / x86_64 | ERROR | ||||||
palomino8 | Windows Server 2022 Datacenter / x64 | ERROR | |||||||
lconway | macOS 12.7.1 Monterey / x86_64 | ERROR | |||||||
Package 11/29 | Hostname | OS / Arch | CHECK | ||||||
ChromSCape 1.19.0 (landing page) Pacome Prompsy
| nebbiolo2 | Linux (Ubuntu 24.04.2 LTS) / x86_64 | ERROR | ||||||
palomino8 | Windows Server 2022 Datacenter / x64 | ERROR | |||||||
lconway | macOS 12.7.1 Monterey / x86_64 | ERROR | |||||||
Package 12/29 | Hostname | OS / Arch | CHECK | ||||||
clusterExperiment 2.29.0 (landing page) Elizabeth Purdom
| nebbiolo2 | Linux (Ubuntu 24.04.2 LTS) / x86_64 | ERROR | ||||||
palomino8 | Windows Server 2022 Datacenter / x64 | ERROR | |||||||
lconway | macOS 12.7.1 Monterey / x86_64 | ERROR | |||||||
Package 13/29 | Hostname | OS / Arch | CHECK | ||||||
CRISPRball 1.5.0 (landing page) Jared Andrews
| nebbiolo2 | Linux (Ubuntu 24.04.2 LTS) / x86_64 | OK | ||||||
palomino8 | Windows Server 2022 Datacenter / x64 | OK | |||||||
lconway | macOS 12.7.1 Monterey / x86_64 | OK | |||||||
Package 14/29 | Hostname | OS / Arch | CHECK | ||||||
crisprScore 1.13.1 (landing page) Jean-Philippe Fortin
| nebbiolo2 | Linux (Ubuntu 24.04.2 LTS) / x86_64 | ERROR | ||||||
palomino8 | Windows Server 2022 Datacenter / x64 | ERROR | |||||||
lconway | macOS 12.7.1 Monterey / x86_64 | ERROR | |||||||
Package 15/29 | Hostname | OS / Arch | CHECK | ||||||
DelayedMatrixStats 1.31.0 (landing page) Peter Hickey
| nebbiolo2 | Linux (Ubuntu 24.04.2 LTS) / x86_64 | OK | ||||||
palomino8 | Windows Server 2022 Datacenter / x64 | OK | |||||||
lconway | macOS 12.7.1 Monterey / x86_64 | OK | |||||||
Package 16/29 | Hostname | OS / Arch | CHECK | ||||||
DropletUtils 1.29.4 (landing page) Jonathan Griffiths
| nebbiolo2 | Linux (Ubuntu 24.04.2 LTS) / x86_64 | OK | ||||||
palomino8 | Windows Server 2022 Datacenter / x64 | OK | |||||||
lconway | macOS 12.7.1 Monterey / x86_64 | OK | |||||||
Package 17/29 | Hostname | OS / Arch | CHECK | ||||||
EpiMix 1.11.0 (landing page) Yuanning Zheng
| nebbiolo2 | Linux (Ubuntu 24.04.2 LTS) / x86_64 | OK | ||||||
palomino8 | Windows Server 2022 Datacenter / x64 | OK | |||||||
lconway | macOS 12.7.1 Monterey / x86_64 | OK | |||||||
Package 18/29 | Hostname | OS / Arch | CHECK | ||||||
extraChIPs 1.13.2 (landing page) Stevie Pederson
| nebbiolo2 | Linux (Ubuntu 24.04.2 LTS) / x86_64 | OK | ||||||
palomino8 | Windows Server 2022 Datacenter / x64 | OK | |||||||
lconway | macOS 12.7.1 Monterey / x86_64 | OK | |||||||
Package 19/29 | Hostname | OS / Arch | CHECK | ||||||
GenomicFeatures 1.61.4 (landing page) H. Pagès
| nebbiolo2 | Linux (Ubuntu 24.04.2 LTS) / x86_64 | WARNINGS | ||||||
palomino8 | Windows Server 2022 Datacenter / x64 | WARNINGS | |||||||
lconway | macOS 12.7.1 Monterey / x86_64 | WARNINGS | |||||||
Package 20/29 | Hostname | OS / Arch | CHECK | ||||||
ginmappeR 1.5.0 (landing page) Fernando Sola
| nebbiolo2 | Linux (Ubuntu 24.04.2 LTS) / x86_64 | ERROR | ||||||
palomino8 | Windows Server 2022 Datacenter / x64 | ERROR | |||||||
lconway | macOS 12.7.1 Monterey / x86_64 | ERROR | |||||||
Package 21/29 | Hostname | OS / Arch | CHECK | ||||||
HDF5Array 1.37.0 (landing page) Hervé Pagès
| nebbiolo2 | Linux (Ubuntu 24.04.2 LTS) / x86_64 | OK | ||||||
palomino8 | Windows Server 2022 Datacenter / x64 | OK | |||||||
lconway | macOS 12.7.1 Monterey / x86_64 | OK | |||||||
Package 22/29 | Hostname | OS / Arch | CHECK | ||||||
midasHLA 1.17.0 (landing page) Maciej Migdał
| nebbiolo2 | Linux (Ubuntu 24.04.2 LTS) / x86_64 | ERROR | ||||||
palomino8 | Windows Server 2022 Datacenter / x64 | ERROR | |||||||
lconway | macOS 12.7.1 Monterey / x86_64 | ERROR | |||||||
Package 23/29 | Hostname | OS / Arch | CHECK | ||||||
mosdef 1.5.1 (landing page) Federico Marini
| nebbiolo2 | Linux (Ubuntu 24.04.2 LTS) / x86_64 | OK | ||||||
palomino8 | Windows Server 2022 Datacenter / x64 | OK | |||||||
lconway | macOS 12.7.1 Monterey / x86_64 | OK | |||||||
Package 24/29 | Hostname | OS / Arch | CHECK | ||||||
MungeSumstats 1.17.1 (landing page) Alan Murphy
| nebbiolo2 | Linux (Ubuntu 24.04.2 LTS) / x86_64 | ERROR | ||||||
palomino8 | Windows Server 2022 Datacenter / x64 | WARNINGS | |||||||
lconway | macOS 12.7.1 Monterey / x86_64 | ERROR | |||||||
Package 25/29 | Hostname | OS / Arch | CHECK | ||||||
rhdf5 2.53.1 (landing page) Mike Smith
| nebbiolo2 | Linux (Ubuntu 24.04.2 LTS) / x86_64 | OK | ||||||
palomino8 | Windows Server 2022 Datacenter / x64 | WARNINGS | |||||||
lconway | macOS 12.7.1 Monterey / x86_64 | OK | |||||||
Package 26/29 | Hostname | OS / Arch | CHECK | ||||||
SimBu 1.11.0 (landing page) Alexander Dietrich
| nebbiolo2 | Linux (Ubuntu 24.04.2 LTS) / x86_64 | ERROR | ||||||
palomino8 | Windows Server 2022 Datacenter / x64 | ERROR | |||||||
lconway | macOS 12.7.1 Monterey / x86_64 | ERROR | |||||||
Package 27/29 | Hostname | OS / Arch | CHECK | ||||||
TENxIO 1.11.5 (landing page) Marcel Ramos
| nebbiolo2 | Linux (Ubuntu 24.04.2 LTS) / x86_64 | OK | ||||||
palomino8 | Windows Server 2022 Datacenter / x64 | OK | |||||||
lconway | macOS 12.7.1 Monterey / x86_64 | OK | |||||||
Package 28/29 | Hostname | OS / Arch | CHECK | ||||||
xcms 4.7.2 (landing page) Steffen Neumann
| nebbiolo2 | Linux (Ubuntu 24.04.2 LTS) / x86_64 | ERROR | ||||||
palomino8 | Windows Server 2022 Datacenter / x64 | ERROR | |||||||
lconway | macOS 12.7.1 Monterey / x86_64 | ERROR | |||||||
Package 29/29 | Hostname | OS / Arch | CHECK | ||||||
zellkonverter 1.19.2 (landing page) Luke Zappia
| nebbiolo2 | Linux (Ubuntu 24.04.2 LTS) / x86_64 | OK | ||||||
palomino8 | Windows Server 2022 Datacenter / x64 | ERROR | |||||||
lconway | macOS 12.7.1 Monterey / x86_64 | OK | |||||||