Package: AnnotationDbi Version: 1.71.0 Command: /home/rapidbuild/bbs-3.22-bioc-rapid/R/bin/R CMD check --install=check:AnnotationDbi.install-out.txt --library=/home/rapidbuild/bbs-3.22-bioc-rapid/R/site-library --timings AnnotationDbi_1.71.0.tar.gz StartedAt: 2025-06-17 19:52:30 -0400 (Tue, 17 Jun 2025) EndedAt: 2025-06-17 19:56:10 -0400 (Tue, 17 Jun 2025) EllapsedTime: 220.0 seconds RetCode: 0 Status: OK CheckDir: AnnotationDbi.Rcheck Warnings: 0