Package: AnnotationForge Version: 1.51.0 Command: /home/rapidbuild/bbs-3.22-bioc-rapid/R/bin/R CMD INSTALL AnnotationForge StartedAt: 2025-06-17 18:21:57 -0400 (Tue, 17 Jun 2025) EndedAt: 2025-06-17 18:22:11 -0400 (Tue, 17 Jun 2025) EllapsedTime: 14.4 seconds RetCode: 0 Status: OK