Package: AnnotationHub Version: 3.99.5 Maintainer: Bioconductor Package Maintainer MaintainerEmail: maintainer at bioconductor.org git_url: https://git.bioconductor.org/packages/AnnotationHub git_branch: devel git_last_commit: e3ff8e3 git_last_commit_date: 2025-05-15 13:05:30 -0400 (Thu, 15 May 2025)