Package: BSgenome Version: 1.77.0 Command: /home/rapidbuild/bbs-3.22-bioc-rapid/R/bin/R CMD build --keep-empty-dirs --no-resave-data BSgenome StartedAt: 2025-06-17 18:39:25 -0400 (Tue, 17 Jun 2025) EndedAt: 2025-06-17 18:40:51 -0400 (Tue, 17 Jun 2025) EllapsedTime: 85.3 seconds RetCode: 0 Status: OK PackageFile: BSgenome_1.77.0.tar.gz PackageFileSize: 5.628 MiB