Package: BSgenomeForge Version: 1.9.0 Maintainer: Hervé Pagès MaintainerEmail: hpages.on.github at gmail.com git_url: https://git.bioconductor.org/packages/BSgenomeForge git_branch: devel git_last_commit: 9fa80af git_last_commit_date: 2025-04-15 13:12:49 -0400 (Tue, 15 Apr 2025)