Package: BSgenomeForge Version: 1.9.0 Command: /home/rapidbuild/bbs-3.22-bioc-rapid/R/bin/R CMD INSTALL BSgenomeForge StartedAt: 2025-06-17 18:27:30 -0400 (Tue, 17 Jun 2025) EndedAt: 2025-06-17 18:27:59 -0400 (Tue, 17 Jun 2025) EllapsedTime: 28.7 seconds RetCode: 0 Status: OK