Package: BiocBaseUtils Version: 1.11.0 Command: /home/rapidbuild/bbs-3.22-bioc-rapid/R/bin/R CMD check --install=check:BiocBaseUtils.install-out.txt --library=/home/rapidbuild/bbs-3.22-bioc-rapid/R/site-library --timings BiocBaseUtils_1.11.0.tar.gz StartedAt: 2025-06-17 20:00:53 -0400 (Tue, 17 Jun 2025) EndedAt: 2025-06-17 20:01:14 -0400 (Tue, 17 Jun 2025) EllapsedTime: 21.0 seconds RetCode: 0 Status: OK CheckDir: BiocBaseUtils.Rcheck Warnings: 0