Package: BiocCheck Version: 1.45.7 Command: /home/rapidbuild/bbs-3.22-bioc-rapid/R/bin/R CMD INSTALL BiocCheck StartedAt: 2025-06-17 18:17:42 -0400 (Tue, 17 Jun 2025) EndedAt: 2025-06-17 18:17:54 -0400 (Tue, 17 Jun 2025) EllapsedTime: 12.2 seconds RetCode: 0 Status: OK