Package: BiocGenerics Version: 0.55.0 Command: /home/rapidbuild/bbs-3.22-bioc-rapid/R/bin/R CMD INSTALL BiocGenerics StartedAt: 2025-06-17 18:10:20 -0400 (Tue, 17 Jun 2025) EndedAt: 2025-06-17 18:10:24 -0400 (Tue, 17 Jun 2025) EllapsedTime: 3.9 seconds RetCode: 0 Status: OK