Package: BiocIO Version: 1.19.0 Command: /home/rapidbuild/bbs-3.22-bioc-rapid/R/bin/R CMD INSTALL BiocIO StartedAt: 2025-06-17 18:13:28 -0400 (Tue, 17 Jun 2025) EndedAt: 2025-06-17 18:13:32 -0400 (Tue, 17 Jun 2025) EllapsedTime: 4.2 seconds RetCode: 0 Status: OK