Package: BiocPkgTools Version: 1.27.6 Command: /home/rapidbuild/bbs-3.22-bioc-rapid/R/bin/R CMD build --keep-empty-dirs --no-resave-data BiocPkgTools StartedAt: 2025-06-17 18:37:11 -0400 (Tue, 17 Jun 2025) EndedAt: 2025-06-17 18:38:21 -0400 (Tue, 17 Jun 2025) EllapsedTime: 69.9 seconds RetCode: 0 Status: OK PackageFile: BiocPkgTools_1.27.6.tar.gz PackageFileSize: 1.454 MiB