Package: BiocPkgTools Version: 1.27.6 Command: /home/rapidbuild/bbs-3.22-bioc-rapid/R/bin/R CMD INSTALL BiocPkgTools StartedAt: 2025-06-17 18:24:54 -0400 (Tue, 17 Jun 2025) EndedAt: 2025-06-17 18:25:10 -0400 (Tue, 17 Jun 2025) EllapsedTime: 16.2 seconds RetCode: 0 Status: OK