Package: BiocSingular Version: 1.25.0 Command: /home/rapidbuild/bbs-3.22-bioc-rapid/R/bin/R CMD INSTALL BiocSingular StartedAt: 2025-06-17 18:20:43 -0400 (Tue, 17 Jun 2025) EndedAt: 2025-06-17 18:21:08 -0400 (Tue, 17 Jun 2025) EllapsedTime: 24.4 seconds RetCode: 0 Status: OK