Package: BiocVersion Version: 3.22.0 Command: /home/rapidbuild/bbs-3.22-bioc-rapid/R/bin/R CMD INSTALL BiocVersion StartedAt: 2025-06-17 18:04:43 -0400 (Tue, 17 Jun 2025) EndedAt: 2025-06-17 18:04:45 -0400 (Tue, 17 Jun 2025) EllapsedTime: 1.2 seconds RetCode: 0 Status: OK