Package: Biostrings Version: 2.77.1 Maintainer: Hervé Pagès MaintainerEmail: hpages.on.github at gmail.com git_url: https://git.bioconductor.org/packages/Biostrings git_branch: devel git_last_commit: 5a36f2f git_last_commit_date: 2025-05-09 01:38:16 -0400 (Fri, 09 May 2025)