Package: BumpyMatrix Version: 1.17.0 Command: /home/rapidbuild/bbs-3.22-bioc-rapid/R/bin/R CMD check --install=check:BumpyMatrix.install-out.txt --library=/home/rapidbuild/bbs-3.22-bioc-rapid/R/site-library --timings BumpyMatrix_1.17.0.tar.gz StartedAt: 2025-06-17 20:10:44 -0400 (Tue, 17 Jun 2025) EndedAt: 2025-06-17 20:12:42 -0400 (Tue, 17 Jun 2025) EllapsedTime: 118.4 seconds RetCode: 0 Status: OK CheckDir: BumpyMatrix.Rcheck Warnings: 0