Package: Category Version: 2.75.0 Command: /home/rapidbuild/bbs-3.22-bioc-rapid/R/bin/R CMD build --keep-empty-dirs --no-resave-data Category StartedAt: 2025-06-17 18:40:02 -0400 (Tue, 17 Jun 2025) EndedAt: 2025-06-17 18:41:12 -0400 (Tue, 17 Jun 2025) EllapsedTime: 69.9 seconds RetCode: 0 Status: OK PackageFile: Category_2.75.0.tar.gz PackageFileSize: 873.8 KiB