Package: ChemmineR Version: 3.61.1 Command: /home/rapidbuild/bbs-3.22-bioc-rapid/R/bin/R CMD build --keep-empty-dirs --no-resave-data ChemmineR StartedAt: 2025-06-17 18:40:51 -0400 (Tue, 17 Jun 2025) EndedAt: 2025-06-17 18:41:34 -0400 (Tue, 17 Jun 2025) EllapsedTime: 42.9 seconds RetCode: 0 Status: OK PackageFile: ChemmineR_3.61.1.tar.gz PackageFileSize: 2.099 MiB