Package: ComplexHeatmap Version: 2.25.0 Command: /home/rapidbuild/bbs-3.22-bioc-rapid/R/bin/R CMD check --install=check:ComplexHeatmap.install-out.txt --library=/home/rapidbuild/bbs-3.22-bioc-rapid/R/site-library --timings ComplexHeatmap_2.25.0.tar.gz StartedAt: 2025-06-17 20:14:39 -0400 (Tue, 17 Jun 2025) EndedAt: 2025-06-17 20:19:13 -0400 (Tue, 17 Jun 2025) EllapsedTime: 274.2 seconds RetCode: 0 Status: OK CheckDir: ComplexHeatmap.Rcheck Warnings: 0