Package: ComplexHeatmap Version: 2.25.0 Command: /home/rapidbuild/bbs-3.22-bioc-rapid/R/bin/R CMD INSTALL ComplexHeatmap StartedAt: 2025-06-17 18:14:45 -0400 (Tue, 17 Jun 2025) EndedAt: 2025-06-17 18:15:02 -0400 (Tue, 17 Jun 2025) EllapsedTime: 16.9 seconds RetCode: 0 Status: OK